BEGIN:VCALENDAR
VERSION:2.0
PRODID:-//ACIJS - ECPv6.15.16//NONSGML v1.0//EN
CALSCALE:GREGORIAN
METHOD:PUBLISH
X-ORIGINAL-URL:https://acijs.com.br
X-WR-CALDESC:Eventos para ACIJS
REFRESH-INTERVAL;VALUE=DURATION:PT1H
X-Robots-Tag:noindex
X-PUBLISHED-TTL:PT1H
BEGIN:VTIMEZONE
TZID:America/Sao_Paulo
BEGIN:STANDARD
TZOFFSETFROM:-0300
TZOFFSETTO:-0300
TZNAME:-03
DTSTART:20240101T000000
END:STANDARD
END:VTIMEZONE
BEGIN:VEVENT
DTSTART;TZID=America/Sao_Paulo:20251112T153000
DTEND;TZID=America/Sao_Paulo:20251112T170000
DTSTAMP:20260421T065430
CREATED:20251030T145426Z
LAST-MODIFIED:20251030T145426Z
UID:53501-1762961400-1762966800@acijs.com.br
SUMMARY:Palestra: Avaliação da Exposição Ocupacional ao Calor\, do Núcleo de Segurança e Saúde no Trabalho ACIJS
DESCRIPTION:  \nO Núcleo de Segurança e Saúde no Trabalho realiza no dia 12 de novembro (quarta-feira) a palestra “Avaliação da Exposição Ocupacional ao Calor: Nova NHO-06 (3ª edição) e Anexo 3 da NR-15”\, com o Higienista Ocupacional\, Andrey Amoreti Soares. Empresários e colaboradores de empresas interessados no tema estão convidados a participar. \nMais informações: (47) 99692-0117
URL:https://acijs.com.br/agenda/palestra-avaliacao-da-exposicao-ocupacional-ao-calor-do-nucleo-de-seguranca-e-saude-no-trabalho-acijs/
LOCATION:CEJAS\, CEJAS - Rua Octaviano Lombardi\, 100 - Centro\, Jaraguá do Sul\, Santa Catarina\, 89255-055\, Brazil
CATEGORIES:Eventos de Núcleos,Núcleo de Segurança e Saúde no Trabalho
ATTACH;FMTTYPE=image/jpeg:https://acijs.com.br/wp-content/uploads/2025/10/WhatsApp-Image-2025-10-29-at-16.39.55.jpeg
END:VEVENT
END:VCALENDAR